
BEGIN:VCALENDAR
VERSION:2.0
PRODID:-//Enrico Damiani Editore e Associati - ECPv6.15.16.1//NONSGML v1.0//EN
CALSCALE:GREGORIAN
METHOD:PUBLISH
X-WR-CALNAME:Enrico Damiani Editore e Associati
X-ORIGINAL-URL:https://www.enricodamianieditore.com
X-WR-CALDESC:Eventi per Enrico Damiani Editore e Associati
REFRESH-INTERVAL;VALUE=DURATION:PT1H
X-Robots-Tag:noindex
X-PUBLISHED-TTL:PT1H
BEGIN:VTIMEZONE
TZID:Europe/Rome
BEGIN:DAYLIGHT
TZOFFSETFROM:+0100
TZOFFSETTO:+0200
TZNAME:CEST
DTSTART:20240331T010000
END:DAYLIGHT
BEGIN:STANDARD
TZOFFSETFROM:+0200
TZOFFSETTO:+0100
TZNAME:CET
DTSTART:20241027T010000
END:STANDARD
BEGIN:DAYLIGHT
TZOFFSETFROM:+0100
TZOFFSETTO:+0200
TZNAME:CEST
DTSTART:20250330T010000
END:DAYLIGHT
BEGIN:STANDARD
TZOFFSETFROM:+0200
TZOFFSETTO:+0100
TZNAME:CET
DTSTART:20251026T010000
END:STANDARD
BEGIN:DAYLIGHT
TZOFFSETFROM:+0100
TZOFFSETTO:+0200
TZNAME:CEST
DTSTART:20260329T010000
END:DAYLIGHT
BEGIN:STANDARD
TZOFFSETFROM:+0200
TZOFFSETTO:+0100
TZNAME:CET
DTSTART:20261025T010000
END:STANDARD
END:VTIMEZONE
BEGIN:VEVENT
DTSTART;TZID=Europe/Rome:20250122T150000
DTEND;TZID=Europe/Rome:20250122T170000
DTSTAMP:20260419T113936
CREATED:20250116T131553Z
LAST-MODIFIED:20250123T121117Z
UID:10000256-1737558000-1737565200@www.enricodamianieditore.com
SUMMARY:Presentazione di "Vite da ariani" a Rezzato (BS)
DESCRIPTION:Presentazione di “Vite da ariani” a Rezzato (BS) \nMercoledì 22 gennaio alle ore 15\, Guido Dalla Volta presenta Vite da ariani nella Sala civica Italo Calvino di Rezzato (BS) nell’ambito di un ciclo di incontri organizzato in occasione della Giornata della Memoria. \nIl libro\n1936. Guido Dalla Volta vive a Brescia con la moglie Emma e i due figli\, Alberto e Paolo. È un uomo onesto e rispettato\, perfettamente integrato nel suo contesto sociale\, che fonda la sua esistenza sui valori della tradizione: lavoro\, famiglia\, patria. C’è solo un dettaglio\, fino a quel momento ininfluente: i Dalla Volta hanno origini ebraiche. Mentre Emma presagisce il pericolo\, Guido non vuole credere al peggio\, finché le leggi razziali non gli aprono sotto i piedi una voragine kafkiana che lo inghiotte insieme al figlio maggiore. \n1962. Mentre Emma attende ancora il ritorno del marito e del primogenito\, il nipotino\, che porta lo stesso nome del nonno\, fa domande che restano senza risposta. E suo padre Paolo\, uomo severo e irrigidito dal dolore\, deve decidere come raccontargli una verità complicata e negata\, così lontana dalla vita serena e brillante che sta costruendo per lui. Sullo sfondo di questo immenso non detto\, si staglia una lettera in cui Alberto è ricordato come «il più forte\, il più risoluto\, il più degno di sopravvivere». A firmarla è un suo compagno di prigionia ad Auschwitz\, uno scrittore torinese di nome Primo Levi\, che all’amico dedicherà passaggi salienti dei suoi capolavori. \nLe grandi tragedie hanno un inizio e una fine\, ma ci sono un prima e un dopo che non smettono di parlarsi\, nel silenzio. Rimbalzando tra questi due tempi – in mezzo ai quali si spalanca l’indicibile – Guido Dalla Volta racconta la “vita da ariani” della sua famiglia\, il tentativo\, vano\, di sfuggire alle persecuzioni e\, finita la guerra\, quello di evitare le sofferenze del ricordo nella paura che l’orrore possa ripetersi. Fino all’epilogo quando\, rompendo una barriera con il coraggio della parola\, il passato e il presente si fondono in una nuova dimensione\, quella della memoria. \nGuido Dalla Volta\, nato a Brescia nel 1956\, si è laureato in Ingegneria elettronica presso il Politecnico di Milano. Nel 1982 ha conseguito il titolo di Master of Computer Science presso la McGill University di Montréal. Ha trascorso la sua carriera lavorativa presso la IBM\, in Italia e all’estero\, fino al 2019 quando\, a seguito del pensionamento\, si è potuto dedicare alle ricerche che hanno permesso la stesura di questo suo primo libro.
URL:https://www.enricodamianieditore.com/evento/presentazione-di-vite-da-ariani-a-rezzato-bs/
LOCATION:Sala Civica Italo Calvino di Rezzato (BS)\, via Leonardo da Vinci 44\, Rezzato\, BS
CATEGORIES:Presentazione
ATTACH;FMTTYPE=image/jpeg:https://www.enricodamianieditore.com/wp-content/uploads/2025/01/DallaVOLTA_giornata_memoria2025_eventoFB_2-scaled.jpg
END:VEVENT
BEGIN:VEVENT
DTSTART;TZID=Europe/Rome:20250119T170000
DTEND;TZID=Europe/Rome:20250119T180000
DTSTAMP:20260419T113936
CREATED:20250109T161937Z
LAST-MODIFIED:20250109T161937Z
UID:10000255-1737306000-1737309600@www.enricodamianieditore.com
SUMMARY:Presentazione "Abu Avrahàm" a Rezzato (BS)
DESCRIPTION:Presentazione Abu Avrahàm a Rezzato (BS) \nDomenica 19 gennaio alle ore 17\, Manuel Bonomo Morzenti presenta Abu Avrahàm. Incontrarsi oltre la storia alla sala civica Italo Calvino (via Leonardo da Vinci 44\, Rezzato)\, in dialogo con Massimo Tedeschi\, nell’ambito della Tenda della Pace. Segue aperitivo palestinese. \nIl libro\nQuando si aprono le porte della sala arrivi di un grande aeroporto italiano\, il mondo\, anzi\, i due mondi di Yussuf – quello arabo e quello ebraico – si fermano un istante. Un istante lungo un secolo\, fatto di pregiudizi\, soprusi\, dolori e ferite all’apparenza non rimarginabili. Fatto di pietre e di abbandoni\, di partenze e di ritorni\, di incubi e silenzi che paiono non lasciare alcun varco. Ma lì\, nel momento in cui l’emozione mette al tappeto anche il più saldo di tutti\, il muro che ha separato due famiglie si sgretola per rivelare le incredibili somiglianze\, il rispecchiarsi stupito di rami generati dallo stesso albero.\nA partire dall’epopea di un patriarca capace di superare ogni confine\, seminando discendenza da entrambi i lati della stessa terra\, si snoda il racconto commovente dell’incontro fra i suoi figli e nipoti\, che\, titubanti e coraggiosi\, rimettono in circolo il sangue comune\, più umano dell’ideologia e più potente della guerra.
URL:https://www.enricodamianieditore.com/evento/presentazione-abu-avraham-a-rezzato-bs/
LOCATION:Sala Civica Italo Calvino di Rezzato (BS)\, via Leonardo da Vinci 44\, Rezzato\, BS
CATEGORIES:Presentazione
ATTACH;FMTTYPE=image/jpeg:https://www.enricodamianieditore.com/wp-content/uploads/2025/01/2025_01_19_Rezzato.jpeg
END:VEVENT
END:VCALENDAR