
BEGIN:VCALENDAR
VERSION:2.0
PRODID:-//Enrico Damiani Editore e Associati - ECPv6.15.16.1//NONSGML v1.0//EN
CALSCALE:GREGORIAN
METHOD:PUBLISH
X-WR-CALNAME:Enrico Damiani Editore e Associati
X-ORIGINAL-URL:https://www.enricodamianieditore.com
X-WR-CALDESC:Eventi per Enrico Damiani Editore e Associati
REFRESH-INTERVAL;VALUE=DURATION:PT1H
X-Robots-Tag:noindex
X-PUBLISHED-TTL:PT1H
BEGIN:VTIMEZONE
TZID:Europe/Rome
BEGIN:DAYLIGHT
TZOFFSETFROM:+0100
TZOFFSETTO:+0200
TZNAME:CEST
DTSTART:20210328T010000
END:DAYLIGHT
BEGIN:STANDARD
TZOFFSETFROM:+0200
TZOFFSETTO:+0100
TZNAME:CET
DTSTART:20211031T010000
END:STANDARD
BEGIN:DAYLIGHT
TZOFFSETFROM:+0100
TZOFFSETTO:+0200
TZNAME:CEST
DTSTART:20220327T010000
END:DAYLIGHT
BEGIN:STANDARD
TZOFFSETFROM:+0200
TZOFFSETTO:+0100
TZNAME:CET
DTSTART:20221030T010000
END:STANDARD
BEGIN:DAYLIGHT
TZOFFSETFROM:+0100
TZOFFSETTO:+0200
TZNAME:CEST
DTSTART:20230326T010000
END:DAYLIGHT
BEGIN:STANDARD
TZOFFSETFROM:+0200
TZOFFSETTO:+0100
TZNAME:CET
DTSTART:20231029T010000
END:STANDARD
END:VTIMEZONE
BEGIN:VEVENT
DTSTART;TZID=Europe/Rome:20221117T173000
DTEND;TZID=Europe/Rome:20221117T183000
DTSTAMP:20260419T204218
CREATED:20221109T153242Z
LAST-MODIFIED:20221109T153242Z
UID:10000183-1668706200-1668709800@www.enricodamianieditore.com
SUMMARY:"Senza posa" alla Pinacoteca di Ancona
DESCRIPTION:Senza posa alla Pinacoteca di Ancona \nGiovedì 17 novembre ore 17.30 Stefano Zuffi presenta Senza posa. Lorenzo Lotto\, tra Venezia\, Bergamo e le Marche alla Pinacoteca Civica di Ancona (via Pizzecolli 17) \nIngresso libero fino ad esaurimento posti \nIl libro\nLorenzo Lotto non ha vita facile. Nato nel periodo più glorioso dell’arte italiana\, si trova a competere con Leonardo e Raffaello\, Michelangelo e Tiziano. Così\, pur essendo uno dei più grandi artisti del suo tempo\, dà il meglio di sé in provincia\, in centri minori o addirittura in paesini quasi introvabili sulla mappa. Una carriera in movimento\, la sua\, tra il Veneto\, la Lombardia\, le Marche\, che vede in Bergamo una tappa cruciale e che lo conduce alla meta finale\, il santuario di Loreto. Un approdo scritto nel nome “Lorenzo”\, così come lo è il destino di “lottare” per un successo che sembra sfuggire sempre dalle dita. \nIn Senza posa. Lorenzo Lotto\, tra Venezia\, Bergamo e le Marche\, l’ormai anziano pittore è colto da Stefano Zuffi proprio sulle soglie del santuario\,  mentre sussurra a monsignor Gaspare Dotti il racconto della sua vita: una confessione senza veli\, che porta il lettore dentro ai capolavori e alle vicende di una esistenza tortuosa. Ne emerge il ritratto intimo di un uomo che Pietro Aretino\, in una lettera agrodolce\, ha definito “più della bontà buono e più della virtù virtuoso”. \nL’autore\nStefano Zuffi\, storico dell’arte\, è membro del comitato scientifico della Pinacoteca di Brera e curatore della Pinacoteca Civica di Ancona. È stato responsabile di collane di successo dedicate alle arti figurative come gli Artbook e I dizionari dell’arte e ha scritto oltre cento volumi di divulgazione culturale\, legati soprattutto al periodo rinascimentale e barocco. Con Enrico Damiani Editore ha pubblicato Eterni ragazzi. Raffaello e Mozart\, due vite allo specchio (2020) e Paradiso per due. Giotto e Dante\, dalle pecore alle stelle (2021).
URL:https://www.enricodamianieditore.com/evento/senza-posa-alla-pinacoteca-di-ancona/
LOCATION:Pinacoteca Civica di Ancona\, via Pizzecolli 17\, Ancona
CATEGORIES:Presentazione
ATTACH;FMTTYPE=image/jpeg:https://www.enricodamianieditore.com/wp-content/uploads/2022/11/zuffiLOTTO_17nov_ancona.jpg
END:VEVENT
END:VCALENDAR