
BEGIN:VCALENDAR
VERSION:2.0
PRODID:-//Enrico Damiani Editore e Associati - ECPv6.15.16.1//NONSGML v1.0//EN
CALSCALE:GREGORIAN
METHOD:PUBLISH
X-WR-CALNAME:Enrico Damiani Editore e Associati
X-ORIGINAL-URL:https://www.enricodamianieditore.com
X-WR-CALDESC:Eventi per Enrico Damiani Editore e Associati
REFRESH-INTERVAL;VALUE=DURATION:PT1H
X-Robots-Tag:noindex
X-PUBLISHED-TTL:PT1H
BEGIN:VTIMEZONE
TZID:Europe/Rome
BEGIN:DAYLIGHT
TZOFFSETFROM:+0100
TZOFFSETTO:+0200
TZNAME:CEST
DTSTART:20190331T010000
END:DAYLIGHT
BEGIN:STANDARD
TZOFFSETFROM:+0200
TZOFFSETTO:+0100
TZNAME:CET
DTSTART:20191027T010000
END:STANDARD
BEGIN:DAYLIGHT
TZOFFSETFROM:+0100
TZOFFSETTO:+0200
TZNAME:CEST
DTSTART:20200329T010000
END:DAYLIGHT
BEGIN:STANDARD
TZOFFSETFROM:+0200
TZOFFSETTO:+0100
TZNAME:CET
DTSTART:20201025T010000
END:STANDARD
BEGIN:DAYLIGHT
TZOFFSETFROM:+0100
TZOFFSETTO:+0200
TZNAME:CEST
DTSTART:20210328T010000
END:DAYLIGHT
BEGIN:STANDARD
TZOFFSETFROM:+0200
TZOFFSETTO:+0100
TZNAME:CET
DTSTART:20211031T010000
END:STANDARD
END:VTIMEZONE
BEGIN:VEVENT
DTSTART;TZID=Europe/Rome:20201127T180000
DTEND;TZID=Europe/Rome:20201127T193000
DTSTAMP:20260419T213940
CREATED:20210909T083939Z
LAST-MODIFIED:20210909T083939Z
UID:10000021-1606500000-1606505400@www.enricodamianieditore.com
SUMMARY:Eleonora Sacco a "Un venerdì\, un libro"
DESCRIPTION:Eleonora Sacco presenta il suo libro “Piccolo alfabeto per viaggiatori selvatici” per la rubrica “Un venerdì\, un libro” di Milano Municipio 3\, con Luca Costamagna e Irene Dominioni.
URL:https://www.enricodamianieditore.com/evento/pietro-roberto-goisis-presenta-nella-stanza-dei-sogni-con-iaia-caputo-19-5-21-ore-21-20-2-2-3-2-2/
LOCATION:Online
ATTACH;FMTTYPE=image/png:https://www.enricodamianieditore.com/wp-content/uploads/2020/12/126945259_2852927984986575_2745580374228800704_n.png
END:VEVENT
BEGIN:VEVENT
DTSTART;TZID=Europe/Rome:20201126T174500
DTEND;TZID=Europe/Rome:20201126T191500
DTSTAMP:20260419T213940
CREATED:20210909T084112Z
LAST-MODIFIED:20210909T084112Z
UID:10000023-1606412700-1606418100@www.enricodamianieditore.com
SUMMARY:Mafe de Baggis a "Pazza Idea Festival"
DESCRIPTION:“Comunico dunque sono. Conferme e mutazioni dell’identità online.” con Vera Gheno\, Marta Perego e Mafe De Baggis\, autrice di “Libera il futuro” in diretta Facebook sulla pagina del Festival.
URL:https://www.enricodamianieditore.com/evento/pietro-roberto-goisis-presenta-nella-stanza-dei-sogni-con-iaia-caputo-19-5-21-ore-21-20-2-2-2-2-2-2/
LOCATION:Online
ATTACH;FMTTYPE=image/jpeg:https://www.enricodamianieditore.com/wp-content/uploads/2020/11/EDEA_cop_liberaFUTURO_prima_HR-1.jpg
END:VEVENT
BEGIN:VEVENT
DTSTART;VALUE=DATE:20201022
DTEND;VALUE=DATE:20201026
DTSTAMP:20260419T213940
CREATED:20210909T095444Z
LAST-MODIFIED:20210909T095444Z
UID:10000014-1603324800-1603670399@www.enricodamianieditore.com
SUMMARY:Book Pride Link 2020
DESCRIPTION:  \n \n\nDal 22 al 25 ottobre 2020 torna Book Pride con una veste nuova: Book Pride Link\, che vedrà uniti librai ed editori indipendenti in una grande iniziativa di promozione della lettura.\nVi aspettiamo nel nostro stand virtuale e sulla piattaforma di Book Pride per i nostri incontri: \nVenerdì 23\, ore 18.00\nTeresa Monestiroli e Eleonora Sacco\nIn un momento così particolare di spostamenti limitati e distanziamento fisico\,  è ancora possibile viaggiare\, l’importante è coltivare uno stile: Adagio e Selvatico.\nCoordina Leonardo Merlini \nDomenica 25 ottobre\, ore 11.30\ncon Laura Bosio\nLaura Bosio introduce i temi dell’accoglienza a partire dalla sua esperienza come direttrice della sede milanese della Penny Wirton\, scuola di italiano per migranti.\nPartecipa Cristina Guarinelli \n 
URL:https://www.enricodamianieditore.com/evento/book-pride-link-2020/
LOCATION:Online
END:VEVENT
BEGIN:VEVENT
DTSTART;TZID=Europe/Rome:20201005T180000
DTEND;TZID=Europe/Rome:20201005T193000
DTSTAMP:20260419T213940
CREATED:20210909T100355Z
LAST-MODIFIED:20210909T100355Z
UID:10000018-1601920800-1601926200@www.enricodamianieditore.com
SUMMARY:Mindful Parenting: conferenza gratuita online
DESCRIPTION:Lunedì 5 ottobre alle ore 18 la psicologa cognitivista Susan Bogels\, autrice del nostro “Mindful Parenting” (edizione italiano a cura di Nicoletta Cinotti Bioenergetica e Mindfulness)\, terrà un’evento online gratuito sulla genitorialità consapevole.\nSiete tutti invitati\, per informazioni e prenotazioni cliccate su questo link.\nScoprite un modo più consapevole di essere una famiglia.
URL:https://www.enricodamianieditore.com/evento/pietro-roberto-goisis-presenta-nella-stanza-dei-sogni-con-iaia-caputo-19-5-21-ore-21-20-2-2-3-2-2-2-2/
LOCATION:Online
ATTACH;FMTTYPE=image/png:https://www.enricodamianieditore.com/wp-content/uploads/2020/10/Progetto-senza-titolo-17.png
END:VEVENT
END:VCALENDAR