
BEGIN:VCALENDAR
VERSION:2.0
PRODID:-//Enrico Damiani Editore e Associati - ECPv6.15.16.1//NONSGML v1.0//EN
CALSCALE:GREGORIAN
METHOD:PUBLISH
X-ORIGINAL-URL:https://www.enricodamianieditore.com
X-WR-CALDESC:Eventi per Enrico Damiani Editore e Associati
REFRESH-INTERVAL;VALUE=DURATION:PT1H
X-Robots-Tag:noindex
X-PUBLISHED-TTL:PT1H
BEGIN:VTIMEZONE
TZID:Europe/Rome
BEGIN:DAYLIGHT
TZOFFSETFROM:+0100
TZOFFSETTO:+0200
TZNAME:CEST
DTSTART:20190331T010000
END:DAYLIGHT
BEGIN:STANDARD
TZOFFSETFROM:+0200
TZOFFSETTO:+0100
TZNAME:CET
DTSTART:20191027T010000
END:STANDARD
BEGIN:DAYLIGHT
TZOFFSETFROM:+0100
TZOFFSETTO:+0200
TZNAME:CEST
DTSTART:20200329T010000
END:DAYLIGHT
BEGIN:STANDARD
TZOFFSETFROM:+0200
TZOFFSETTO:+0100
TZNAME:CET
DTSTART:20201025T010000
END:STANDARD
BEGIN:DAYLIGHT
TZOFFSETFROM:+0100
TZOFFSETTO:+0200
TZNAME:CEST
DTSTART:20210328T010000
END:DAYLIGHT
BEGIN:STANDARD
TZOFFSETFROM:+0200
TZOFFSETTO:+0100
TZNAME:CET
DTSTART:20211031T010000
END:STANDARD
END:VTIMEZONE
BEGIN:VEVENT
DTSTART;VALUE=DATE:20201114
DTEND;VALUE=DATE:20201116
DTSTAMP:20260423T231440
CREATED:20210909T093005Z
LAST-MODIFIED:20210909T093005Z
UID:10000027-1605312000-1605484799@www.enricodamianieditore.com
SUMMARY:BookCity Milano 2020
DESCRIPTION:Siamo molto felici di partecipare anche quest’anno a BookCity Milano\, manifestazione che si terrà dall’11 al 15 novembre. Quest’anno\, nel pieno rispetto delle disposizioni anti-covid\, sarà un’edizione speciale tutta digitale. Un evento unico che porterà libri e scrittori direttamente nelle vostre case attraverso il sito della manifestazione. Con centinaia di dirette\, incontri gratuiti e ospiti\, BookCity rimane un appuntamento imperdibile per tutti gli amanti della lettura. \n  \nSabato 14 novembre alle ore 12:30\nLo storico dell’arte Stefano Zuffi presenterà il suo ultimo libro “Eterni ragazzi. Mozart e Raffaello\, due vite allo specchio” in un incontro dal titolo “Gli imprevedibili gemelli della bellezza\, Vite parallele di Mozart e Raffaello”. \nDue geni raccontati in modo appassionato e incalzante che ci consegnano un “Raffaello come non l’abbiamo mai sentito” e un “Mozart come non l’abbiamo mai visto”. \nSono davvero molte le similitudini tra i due artisti sia nella vita privata che nel loro percorso artistico\, e l’autore le ripercorre capitolo dopo capitolo\, cominciando da quella ricerca della perfezione che sempre animò la pittura dell’urbinate e la musica dell’austriaco: “Raffaello e Mozart mostrano con piena evidenza di non considerare mai definitivo il loro stile\, proseguendo nell’evoluzione fino agli ultimi istanti della vita”. \n  \n  \n  \n  \nDomenica 15 novembre 2020 alle ore 12:00\nIaia Caputo insieme ad Antonio Franchini ed Helena Janeczek presenterà il libro “Il gusto di una vita” in un incontro dal titolo “Dire di sé\, parlare al mondo. Scrivere memoir”. \nIl libro è un meraviglioso viaggio attraverso il tempo\, i ricordi e l’arte culinaria; è un invito a sedersi a tavola\, quella dei grandi pranzi della domenica\, imbandita a festa\, con le stoviglie buone e piena di cibi preparati con cura. Ma è anche un viaggio che narra le fatiche esistenziali\, i sentimenti e i conflitti di intere generazioni\, il conforto e le speranze di un’Italia che non c’è più. \n 
URL:https://www.enricodamianieditore.com/evento/pietro-roberto-goisis-presenta-nella-stanza-dei-sogni-con-iaia-caputo-19-5-21-ore-21-20-2-2-3-2-3-2/
LOCATION:Milano
ATTACH;FMTTYPE=image/jpeg:https://www.enricodamianieditore.com/wp-content/uploads/2020/11/EDEA_MULTI_FB_bookcity2020.jpg
END:VEVENT
BEGIN:VEVENT
DTSTART;TZID=Europe/Rome:20201007T173000
DTEND;TZID=Europe/Rome:20201007T193000
DTSTAMP:20260423T231440
CREATED:20210909T095916Z
LAST-MODIFIED:20210909T095916Z
UID:10000016-1602091800-1602099000@www.enricodamianieditore.com
SUMMARY:Eterni Ragazzi di Stefano Zuffi - Conferenza al Museo Diocesano di Milano
DESCRIPTION:Mercoledì 7 ottobre alle 17:30 vi aspettiamo alla sala dell’Arciconfraternita del  Museo Diocesano di Milano per la conferenza “Raffaello. Un talento unico… o quasi” dello storico dell’arte Stefano Zuffi\, autore del nostro “Eterni ragazzi. Raffaello e Mozart\, vite allo specchio”\, in uscita questo giovedì. L’ingresso è consentito previo acquisto del biglietto di ingresso al Museo.\nScoprite le incredibili somiglianze che legano Raffaello e Mozart.
URL:https://www.enricodamianieditore.com/evento/pietro-roberto-goisis-presenta-nella-stanza-dei-sogni-con-iaia-caputo-19-5-21-ore-21-20-2-2-3-2-2-2/
LOCATION:Milano
ATTACH;FMTTYPE=image/jpeg:https://www.enricodamianieditore.com/wp-content/uploads/2020/10/ZUFFI_Mi_diocesano_7ott_IGstorie.jpg
END:VEVENT
BEGIN:VEVENT
DTSTART;TZID=Europe/Rome:20200927T174500
DTEND;TZID=Europe/Rome:20200927T191500
DTSTAMP:20260423T231440
CREATED:20210916T074458Z
LAST-MODIFIED:20210916T074458Z
UID:10000104-1601228700-1601234100@www.enricodamianieditore.com
SUMMARY:Il gusto di una vita - Presentazione Libreria Centofiori Milano
DESCRIPTION:Domenica 27 settembre vi aspettiamo a Libreria Centofiori di Milano per la presentazione di Il gusto di una vita\, il nuovo memoir di  \nIaia Caputo\, nelle librerie dal 24 settembre. Con l’autrice interverrà Alberto Rollo.\n\nAppuntamento ore 11 presso la Libreria Centofiori\, Piazzale Dateo 5\, Milano. Vi aspettiamo numerosi!
URL:https://www.enricodamianieditore.com/evento/il-gusto-di-una-vita-presentazione-libreria-centofiori-milano/
LOCATION:Milano
ATTACH;FMTTYPE=image/jpeg:https://www.enricodamianieditore.com/wp-content/uploads/2020/09/CAPUTO_libCENTOFIORI_27set20_d-copia.jpg
END:VEVENT
END:VCALENDAR