
BEGIN:VCALENDAR
VERSION:2.0
PRODID:-//Enrico Damiani Editore e Associati - ECPv6.15.16.1//NONSGML v1.0//EN
CALSCALE:GREGORIAN
METHOD:PUBLISH
X-WR-CALNAME:Enrico Damiani Editore e Associati
X-ORIGINAL-URL:https://www.enricodamianieditore.com
X-WR-CALDESC:Eventi per Enrico Damiani Editore e Associati
REFRESH-INTERVAL;VALUE=DURATION:PT1H
X-Robots-Tag:noindex
X-PUBLISHED-TTL:PT1H
BEGIN:VTIMEZONE
TZID:Europe/Rome
BEGIN:DAYLIGHT
TZOFFSETFROM:+0100
TZOFFSETTO:+0200
TZNAME:CEST
DTSTART:20190331T010000
END:DAYLIGHT
BEGIN:STANDARD
TZOFFSETFROM:+0200
TZOFFSETTO:+0100
TZNAME:CET
DTSTART:20191027T010000
END:STANDARD
BEGIN:DAYLIGHT
TZOFFSETFROM:+0100
TZOFFSETTO:+0200
TZNAME:CEST
DTSTART:20200329T010000
END:DAYLIGHT
BEGIN:STANDARD
TZOFFSETFROM:+0200
TZOFFSETTO:+0100
TZNAME:CET
DTSTART:20201025T010000
END:STANDARD
BEGIN:DAYLIGHT
TZOFFSETFROM:+0100
TZOFFSETTO:+0200
TZNAME:CEST
DTSTART:20210328T010000
END:DAYLIGHT
BEGIN:STANDARD
TZOFFSETFROM:+0200
TZOFFSETTO:+0100
TZNAME:CET
DTSTART:20211031T010000
END:STANDARD
END:VTIMEZONE
BEGIN:VEVENT
DTSTART;TZID=Europe/Rome:20201115T000000
DTEND;TZID=Europe/Rome:20201115T235900
DTSTAMP:20260423T231328
CREATED:20210909T094406Z
LAST-MODIFIED:20210909T094406Z
UID:10000012-1605398400-1605484740@www.enricodamianieditore.com
SUMMARY:Premio letterario Short Story 2020
DESCRIPTION:  \n \n  \nIL PREMIO\nPrima della pandemia ci sentivamo soffocati dalla frenesia e frammentarietà della nostra epoca. Durante la lunga quarantena ci siamo permessi momenti di calma e introspezione\, ma siamo stati anche travolti da un incessante flusso di informazioni contraddittorie e futili dibattiti. In questa confusione\, la narrazione breve può proporsi come il ritorno a un’espressione di sé più concisa\, quindi più intensa. \nIL TEMA: OMAGGIO ALLA LEONESSA\nBrescia è diventata tristemente nota come una delle province italiane maggiormente colpite dal virus. Le immagini dei suoi ospedali hanno fatto il giro del mondo\, insieme alle storie dolorose dei sanitari e dei malati. Terra operosa e silenziosa\, intrisa di storia\, Brescia ha saputo accogliere e innovare\, si è animata di musica e incontri\, anche grazie a una generazione di giovani che ne ha saputo cogliere le potenzialità. In molti l’hanno (ri-)scoperta incuriositi\, in molti la possono raccontare e immaginare. \nIL REGOLAMENTO\nAmmessi al premio sono racconti inediti in lingua italiana della lunghezza massima di 10.000 battute spazi inclusi (da inviare a info@enricodamianieditore.com) entro e non oltre il 15 novembre 2020.\nIl racconto deve essere inviato in forma di documento Word accompagnato da nome\, cognome\, età\, numero di telefono.\nFra i racconti pervenuti saranno selezionati dieci finalisti\, che verranno pubblicati in una raccolta in formato ebook. I tre vincitori verranno proclamati a gennaio 2021.\nOltre ai tre vincitori\, una menzione speciale sarà riservata al migliore racconto scritto da autori under 25.\nLa partecipazione al premio è gratuita e comporta l’accettazione della pubblicazione del racconto nell’antologia in ebook. \nLA GIURIA\nPaolo Corsini\, ex-sindaco di Brescia e attualmente senatore\, ha scritto numerosi saggi a carattere storico e politico\, in cui ripercorre la cronaca del Novecento sul territorio bresciano.\nMassimo Tedeschi\, giornalista\, ex-caporedattore della sede di Brescia del Corriere della Sera\, ha collaborato con numerose testate locali ed è attualmente presidente dell’AAB\, Associazione Artisti Bresciani. \nScarica da qui il regolamento completo
URL:https://www.enricodamianieditore.com/evento/pietro-roberto-goisis-presenta-nella-stanza-dei-sogni-con-iaia-caputo-19-5-21-ore-21-20-2-2-3-2-3-3/
LOCATION:Chiari – Brescia
END:VEVENT
BEGIN:VEVENT
DTSTART;VALUE=DATE:20201114
DTEND;VALUE=DATE:20201116
DTSTAMP:20260423T231328
CREATED:20210909T090509Z
LAST-MODIFIED:20210909T090509Z
UID:10000025-1605312000-1605484799@www.enricodamianieditore.com
SUMMARY:Fiera della Microeditoria 2020
DESCRIPTION:Anche quest’anno siamo molto felici di partecipare alla Rassegna della Microeditoria di Chiari (BS). Questa 18° edizione si terrà dal 13 al 15 novembre 2020 e avrà come tema portante: “Madre terra. Ognuno è ciò di cui si prende cura”. Torna il grande appuntamento con i piccoli e medi editori italiani che assieme a grandi nomi della cultura nazionale\, promuoveranno dibattiti e presentazioni di libri in tre giorni di intensi eventi. Proprio per premiare l’impegno culturale della città\, quest’anno a Chiari è stato conferito il prestigioso titolo di “Capitale italiana del libro”. Questa edizione della rassegna\, per far fronte all’emergenza Covid-19\, sarà un evento speciale completamente online e con tutti gli appuntamenti fruibili sul sito e sul canale Youtube della manifestazione. \n  \nSabato 14 novembre alle ore 17:15\nEleonora Sacco (Pain de route) e Tino Mantarro presentano il libro “Piccolo alfabeto per viaggiatori selvatici”. \nUn libro dove\, tra i racconti\, gli incontri\, gli indimenticabili tramonti\, potrete trovare anche consigli pratici su come viaggiare in libertà\, con consapevolezza\, lungo vie poco battute. Ma anche come restare selvatici alle porte di casa. E uscire da voi stessi per ritrovarvi un po’ più veri\, più saggi\, più profondi. \nUn libro da portare sempre con sé nello zaino! \n  \n  \n  \n  \nSabato 14 novembre alle ore 18:30\nAndrea Grisi e Antonella Cazzulani presentano il libro “Che razza d’amore”. \nDieci racconti divertenti o seri\, con cani di razza o meticci\, accompagnati da pagine dove Andrea Grisi\, alias Doctor Dog\, svela i suoi segreti di addestratore cinofilo al lettore. Un appuntamento imperdibile per tutti gli amanti di questi amici a quattro zampe! \nIl libro “Che razza d’amore” di Andrea Grisi uscirà in anteprima il 13 novembre in allegato al Giornale di Brescia. L’uscita ufficiale in libreria è prevista a febbraio. \n  \n  \n  \n  \n  \nDomenica 15 novembre alle ore 17:45\nLo storico dell’arte Stefano Zuffi\, presenterà “Eterni ragazzi. Raffaello e Mozart\, due vite allo specchio”. \nIn questo libro il talento dei due giovani ed eterni maestri dialoga attraverso i secoli\, lasciando affiorare dalla Storia la loro classicità. Due geni così diversi eppure così simili sia nella vita privata sia nella loro carriera artistica. \n 
URL:https://www.enricodamianieditore.com/evento/pietro-roberto-goisis-presenta-nella-stanza-dei-sogni-con-iaia-caputo-19-5-21-ore-21-20-2-2-3-2-3/
LOCATION:Chiari – Brescia
ATTACH;FMTTYPE=image/jpeg:https://www.enricodamianieditore.com/wp-content/uploads/2020/12/129001705_10164609785970578_311726511310933101_o.jpg
END:VEVENT
END:VCALENDAR