
BEGIN:VCALENDAR
VERSION:2.0
PRODID:-//Enrico Damiani Editore e Associati - ECPv6.15.16.1//NONSGML v1.0//EN
CALSCALE:GREGORIAN
METHOD:PUBLISH
X-WR-CALNAME:Enrico Damiani Editore e Associati
X-ORIGINAL-URL:https://www.enricodamianieditore.com
X-WR-CALDESC:Eventi per Enrico Damiani Editore e Associati
REFRESH-INTERVAL;VALUE=DURATION:PT1H
X-Robots-Tag:noindex
X-PUBLISHED-TTL:PT1H
BEGIN:VTIMEZONE
TZID:Europe/Rome
BEGIN:DAYLIGHT
TZOFFSETFROM:+0100
TZOFFSETTO:+0200
TZNAME:CEST
DTSTART:20200329T010000
END:DAYLIGHT
BEGIN:STANDARD
TZOFFSETFROM:+0200
TZOFFSETTO:+0100
TZNAME:CET
DTSTART:20201025T010000
END:STANDARD
BEGIN:DAYLIGHT
TZOFFSETFROM:+0100
TZOFFSETTO:+0200
TZNAME:CEST
DTSTART:20210328T010000
END:DAYLIGHT
BEGIN:STANDARD
TZOFFSETFROM:+0200
TZOFFSETTO:+0100
TZNAME:CET
DTSTART:20211031T010000
END:STANDARD
BEGIN:DAYLIGHT
TZOFFSETFROM:+0100
TZOFFSETTO:+0200
TZNAME:CEST
DTSTART:20220327T010000
END:DAYLIGHT
BEGIN:STANDARD
TZOFFSETFROM:+0200
TZOFFSETTO:+0100
TZNAME:CET
DTSTART:20221030T010000
END:STANDARD
BEGIN:DAYLIGHT
TZOFFSETFROM:+0100
TZOFFSETTO:+0200
TZNAME:CEST
DTSTART:20230326T010000
END:DAYLIGHT
BEGIN:STANDARD
TZOFFSETFROM:+0200
TZOFFSETTO:+0100
TZNAME:CET
DTSTART:20231029T010000
END:STANDARD
BEGIN:DAYLIGHT
TZOFFSETFROM:+0100
TZOFFSETTO:+0200
TZNAME:CEST
DTSTART:20240331T010000
END:DAYLIGHT
BEGIN:STANDARD
TZOFFSETFROM:+0200
TZOFFSETTO:+0100
TZNAME:CET
DTSTART:20241027T010000
END:STANDARD
BEGIN:DAYLIGHT
TZOFFSETFROM:+0100
TZOFFSETTO:+0200
TZNAME:CEST
DTSTART:20250330T010000
END:DAYLIGHT
BEGIN:STANDARD
TZOFFSETFROM:+0200
TZOFFSETTO:+0100
TZNAME:CET
DTSTART:20251026T010000
END:STANDARD
BEGIN:DAYLIGHT
TZOFFSETFROM:+0100
TZOFFSETTO:+0200
TZNAME:CEST
DTSTART:20260329T010000
END:DAYLIGHT
BEGIN:STANDARD
TZOFFSETFROM:+0200
TZOFFSETTO:+0100
TZNAME:CET
DTSTART:20261025T010000
END:STANDARD
END:VTIMEZONE
BEGIN:VEVENT
DTSTART;TZID=Europe/Rome:20251104T180000
DTEND;TZID=Europe/Rome:20251104T200000
DTSTAMP:20260419T160503
CREATED:20251008T072314Z
LAST-MODIFIED:20251023T081212Z
UID:10000303-1762279200-1762286400@www.enricodamianieditore.com
SUMMARY:Incontro con lo storico dell’arte Stefano Zuffi il 4 novembre alla Pinacoteca di Brescia
DESCRIPTION:Incontro con lo storico dell’arte Stefano Zuffi il 4 novembre alla Pinacoteca di Brescia \nMartedì 4 novembre alle ore 18 nella Sala Conferenze della Pinacoteca Tosio Martinengo a Brescia\, Piazza Moretto 4\, Stefano Zuffi\, storico dell’arte\, terrà una conversazione su: 1525-1925 Centenari a confronto tra arte\, storia e attualità. \nL’iniziativa è promossa dalla Ccdc e Fondazione Brescia Musei in collaborazione con Enrico Damiani Editore. \nStefano Zuffi\, storico dell’arte\, è membro del comitato scientifico della Pinacoteca di Brera e già curatore della Pinacoteca Civica di Ancona. È stato responsabile di collane di successo dedicate alle arti figurative come gli Artbook e I dizionari dell’arte e ha scritto oltre cento volumi di divulgazione culturale\, legati soprattutto al periodo rinascimentale e barocco. Con Enrico Damiani Editore ha pubblicato Eterni ragazzi. Raffaello e Mozart\, due vite allo specchio (2020)\, Paradiso per due. Giotto e Dante\, dalle pecore alle stelle (2021) e Senza posa. Lorenzo Lotto\, tra Venezia\, Bergamo e le Marche (2022). \nMentre si avvia al termine questo tormentato primo quarto di secolo del nuovo millennio\, l’incontro con il prof. Stefano Zuffi sarà un’occasione preziosa per attraversare alcuni precedenti che possono dirci qualcosa sul tempo che stiamo vivendo. I quarti di secolo che saranno messi a confronto (1525-1925) sono accomunati dal fatto che\, nei due periodi considerati\, l’Europa doveva confrontarsi con un evento di profonda lacerazione che li aveva preceduti: la Riforma (1517-1521: tra la pubblicazione delle “95 tesi” e la definitiva scomunica di Lutero) e la Prima Guerra Mondiale (1914-18)\, con tutte le conseguenze individuali e collettive. In entrambi i casi\, il periodo immediatamente antecedente era stato caratterizzato da esaltanti scoperte scientifiche (e geografiche\, nel caso del Cinquecento)\, e da un clima generalmente positivo. A sua volta l’arte prendeva strade decisamente innovative: il Manierismo negli anni ’20 del Cinquecento\, il Surrealismo nel 1924-25; in entrambi i casi\, un “rifiuto” della realtà\, per una espressione innovativa\, e sovente nervosa. Nei due frangenti\, possiamo senz’altro parlare di una “globalizzazione” dei linguaggi della cultura: nel 1525\, soprattutto per la diffusione in Europa dei modelli rinascimentali italiani; nel 1925\, grazie alla Esposizione Universale di Parigi dedicata alle Arti Decorative\, che è passata alla storia per la definizione di “Art Déco”. Per certi versi da quel confronto emergono elementi utili anche per il contesto presente\, squassato da tensioni geopolitiche ma anche dalla memoria ancora fresca degli anni della pandemia.
URL:https://www.enricodamianieditore.com/evento/incontro-con-lo-storico-dellarte-stefano-zuffi-il-4-novembre-alla-pinacoteca-di-brescia/
LOCATION:Pinacoteca Tosio Martinengo\, Piazza Moretto 4\, Brescia\, 25121
CATEGORIES:Presentazione
ATTACH;FMTTYPE=image/jpeg:https://www.enricodamianieditore.com/wp-content/uploads/2025/10/2025_11_04_Zuffi_CCDC.jpeg
END:VEVENT
BEGIN:VEVENT
DTSTART;TZID=Europe/Rome:20230207T183000
DTEND;TZID=Europe/Rome:20230207T193000
DTSTAMP:20260419T160503
CREATED:20230131T161803Z
LAST-MODIFIED:20230207T085717Z
UID:10000075-1675794600-1675798200@www.enricodamianieditore.com
SUMMARY:"Senza posa" alla Pinacoteca Tosio Martinengo (Brescia)
DESCRIPTION:Senza posa alla Pinacoteca Tosio Martinengo \nMartedì 7 febbraio alle ore 18.30 Stefano Zuffi presenta Senza posa. Lorenzo Lotto\, tra Venezia\, Bergamo e le Marche alla Pinacoteca Tosio Martinengo di Brescia (Piazza Moretto 4). Lorenzo Lotto non ha vita facile. Nato nel periodo più glorioso dell’arte italiana\, si trova a competere con Leonardo e Raffaello\, Michelangelo e Tiziano. Così\, pur essendo uno dei più grandi artisti del suo tempo\, dà il meglio di sé in provincia\, in centri minori o addirittura in paesini quasi introvabili sulla mappa. Una carriera in movimento\, la sua\, tra il Veneto\, la Lombardia\, le Marche\, che vede in Bergamo una tappa cruciale e che lo conduce alla meta finale\, il santuario di Loreto. Un approdo scritto nel nome “Lorenzo”\, così come lo è il destino di “lottare” per un successo che sembra sfuggire sempre dalle dita. \nIn Senza posa. Lorenzo Lotto\, tra Venezia\, Bergamo e le Marche\, l’ormai anziano pittore è colto da Stefano Zuffi proprio sulle soglie del santuario\,  mentre sussurra a monsignor Gaspare Dotti il racconto della sua vita: una confessione senza veli\, che porta il lettore dentro ai capolavori e alle vicende di una esistenza tortuosa. Ne emerge il ritratto intimo di un uomo che Pietro Aretino\, in una lettera agrodolce\, ha definito “più della bontà buono e più della virtù virtuoso”. \nL’autore\nStefano Zuffi\, storico dell’arte\, è membro del comitato scientifico della Pinacoteca di Brera e curatore della Pinacoteca Civica di Ancona. È stato responsabile di collane di successo dedicate alle arti figurative come gli Artbook e I dizionari dell’arte e ha scritto oltre cento volumi di divulgazione culturale\, legati soprattutto al periodo rinascimentale e barocco. Con Enrico Damiani Editore ha pubblicato Eterni ragazzi. Raffaello e Mozart\, due vite allo specchio (2020) e Paradiso per due. Giotto e Dante\, dalle pecore alle stelle (2021).
URL:https://www.enricodamianieditore.com/evento/senza-posa-alla-pinacoteca-tosio-martinengo-brescia/
LOCATION:Pinacoteca Tosio Martinengo\, Piazza Moretto 4\, Brescia\, 25121
CATEGORIES:Presentazione
ATTACH;FMTTYPE=image/jpeg:https://www.enricodamianieditore.com/wp-content/uploads/2023/01/presentazione-libro-Zuffi-definitivo.jpg
END:VEVENT
BEGIN:VEVENT
DTSTART;TZID=Europe/Rome:20230122T101500
DTEND;TZID=Europe/Rome:20230122T111500
DTSTAMP:20260419T160503
CREATED:20221124T134707Z
LAST-MODIFIED:20221124T134813Z
UID:10000071-1674382500-1674386100@www.enricodamianieditore.com
SUMMARY:"Senza posa" al Festival Giallo Garda
DESCRIPTION:Senza posa al Festival Giallo Garda\n\nDomenica 22 gennaio alle 10.15 Stefano Zuffi presenta Senza posa. Lorenzo Lotto\, tra Venezia\, Bergamo e le Marche al Festival Giallo Garda nel Portico del Parente del Vittoriale Degli Italiani. Modera l’incontro Gabriele Marazzina.\nI posti sono limitati\, è possibile prenotare scrivendo via mail a segreteria@festivalgiallogarda.it oppure su Whatsapp allo 3201560066\nNon mancate!\n  \nIl Libro\nLorenzo Lotto non ha vita facile. Nato nel periodo più glorioso dell’arte italiana\, si trova a competere con Leonardo e Raffaello\, Michelangelo e Tiziano. Così\, pur essendo uno dei più grandi artisti del suo tempo\, dà il meglio di sé in provincia\, in centri minori o addirittura in paesini quasi introvabili sulla mappa. Una carriera in movimento\, la sua\, tra il Veneto\, la Lombardia\, le Marche\, che vede in Bergamo una tappa cruciale e che lo conduce alla meta finale\, il santuario di Loreto. Un approdo scritto nel nome “Lorenzo”\, così come lo è il destino di “lottare” per un successo che sembra sfuggire sempre dalle dita. \nIn Senza posa. Lorenzo Lotto\, tra Venezia\, Bergamo e le Marche\, l’ormai anziano pittore è colto da Stefano Zuffi proprio sulle soglie del santuario\,  mentre sussurra a monsignor Gaspare Dotti il racconto della sua vita: una confessione senza veli\, che porta il lettore dentro ai capolavori e alle vicende di una esistenza tortuosa. Ne emerge il ritratto intimo di un uomo che Pietro Aretino\, in una lettera agrodolce\, ha definito “più della bontà buono e più della virtù virtuoso”.
URL:https://www.enricodamianieditore.com/evento/senza-posa-al-festival-giallo-garda/
LOCATION:Vittoriale degli Italiani\, Via al Vittoriale 12\, Gardone Riviera\, BS\, 25083
CATEGORIES:Presentazione
ATTACH;FMTTYPE=image/jpeg:https://www.enricodamianieditore.com/wp-content/uploads/2022/11/22-GENNAIO-01.jpg
END:VEVENT
BEGIN:VEVENT
DTSTART;TZID=Europe/Rome:20221117T173000
DTEND;TZID=Europe/Rome:20221117T183000
DTSTAMP:20260419T160503
CREATED:20221109T153242Z
LAST-MODIFIED:20221109T153242Z
UID:10000183-1668706200-1668709800@www.enricodamianieditore.com
SUMMARY:"Senza posa" alla Pinacoteca di Ancona
DESCRIPTION:Senza posa alla Pinacoteca di Ancona \nGiovedì 17 novembre ore 17.30 Stefano Zuffi presenta Senza posa. Lorenzo Lotto\, tra Venezia\, Bergamo e le Marche alla Pinacoteca Civica di Ancona (via Pizzecolli 17) \nIngresso libero fino ad esaurimento posti \nIl libro\nLorenzo Lotto non ha vita facile. Nato nel periodo più glorioso dell’arte italiana\, si trova a competere con Leonardo e Raffaello\, Michelangelo e Tiziano. Così\, pur essendo uno dei più grandi artisti del suo tempo\, dà il meglio di sé in provincia\, in centri minori o addirittura in paesini quasi introvabili sulla mappa. Una carriera in movimento\, la sua\, tra il Veneto\, la Lombardia\, le Marche\, che vede in Bergamo una tappa cruciale e che lo conduce alla meta finale\, il santuario di Loreto. Un approdo scritto nel nome “Lorenzo”\, così come lo è il destino di “lottare” per un successo che sembra sfuggire sempre dalle dita. \nIn Senza posa. Lorenzo Lotto\, tra Venezia\, Bergamo e le Marche\, l’ormai anziano pittore è colto da Stefano Zuffi proprio sulle soglie del santuario\,  mentre sussurra a monsignor Gaspare Dotti il racconto della sua vita: una confessione senza veli\, che porta il lettore dentro ai capolavori e alle vicende di una esistenza tortuosa. Ne emerge il ritratto intimo di un uomo che Pietro Aretino\, in una lettera agrodolce\, ha definito “più della bontà buono e più della virtù virtuoso”. \nL’autore\nStefano Zuffi\, storico dell’arte\, è membro del comitato scientifico della Pinacoteca di Brera e curatore della Pinacoteca Civica di Ancona. È stato responsabile di collane di successo dedicate alle arti figurative come gli Artbook e I dizionari dell’arte e ha scritto oltre cento volumi di divulgazione culturale\, legati soprattutto al periodo rinascimentale e barocco. Con Enrico Damiani Editore ha pubblicato Eterni ragazzi. Raffaello e Mozart\, due vite allo specchio (2020) e Paradiso per due. Giotto e Dante\, dalle pecore alle stelle (2021).
URL:https://www.enricodamianieditore.com/evento/senza-posa-alla-pinacoteca-di-ancona/
LOCATION:Pinacoteca Civica di Ancona\, via Pizzecolli 17\, Ancona
CATEGORIES:Presentazione
ATTACH;FMTTYPE=image/jpeg:https://www.enricodamianieditore.com/wp-content/uploads/2022/11/zuffiLOTTO_17nov_ancona.jpg
END:VEVENT
BEGIN:VEVENT
DTSTART;TZID=Europe/Rome:20211120T113000
DTEND;TZID=Europe/Rome:20211120T123000
DTSTAMP:20260419T160503
CREATED:20211119T070001Z
LAST-MODIFIED:20211111T130951Z
UID:10000152-1637407800-1637411400@www.enricodamianieditore.com
SUMMARY:Dante e le arti figurative - Bookcity Milano 2021
DESCRIPTION:Dante e le arti figurative  \ncon Stefano Zuffi \nNella cornice del primo Trecento\, le strade di Dante e Giotto si incrociano di continuo. Forti relazioni biografiche ma soprattutto espressive fanno dei due “benedetti toscani” i grandi protagonisti di una svolta decisiva che spalanca le porte della modernità. In occasione del 700° anniversario dalla morte del Sommo Poeta\, Stefano Zuffi ci conduce in un avvincente viaggio tra arte e letteratura. Ricostruendo lo scenario storico alle soglie del Trecento\, Paradiso per due. Giotto e Dante dalle pecore alle stelle presenta le vite e i capolavori di Giotto e Dante in un rapporto di continua alternanza\, rinnovando lo stupore e l’ammirazione per la capacità dell’uno e dell’altro nel cogliere in un lampo l’essenza delle cose e l’anima delle persone. \nBiblioteca Sormani\, Sala del Grechetto\, via Francesco Sforza 7 \nScopri la programmazione di Enrico Damiani Editore per Bookcity Milano 2021 \nL’autore \nStefano Zuffi\, storico dell’arte\, ha pubblicato oltre cento volumi di divulgazione culturale\, legati soprattutto al periodo rinascimentale e barocco. È stato responsabile di collane di successo dedicate alle arti figurative come gli Artbook e I dizionari dell’arte. Le sue opere sono oggi tradotte in tutto il mondo. Tra le tante ricordiamo Grande atlante del Rinascimento (Mondadori Electa)\, Bella! Italia (Sassi Editore)\, Le donne che amano sono pericolose (Rizzoli)\, Nel segno di Caravaggio (Skira)\, Il mondo dipinto\, Le parole dell’arte\, Leonardo (tutte edite da Feltrinelli Kids)\, Il racconto della pittura da Giotto a Caravaggio (Hoepli). Collabora alla realizzazione di mostre temporanee e cura iniziative per la valorizzazione dei musei milanesi. È responsabile culturale delle Associazioni Amici di Brera e del Museo Poldi Pezzoli. Con Enrico Damiani ha pubblicato\, nel 2020\, Eterni ragazzi. Raffaello e Mozart\, due vite allo specchio.
URL:https://www.enricodamianieditore.com/evento/dante-e-le-arti-figurative-bookcity-milano-2021/
LOCATION:Biblioteca Sormani Sala del Grechetto\, via Francesco Sforza 7\, Milano\, MI\, Italia
CATEGORIES:Bookcity Milano
ATTACH;FMTTYPE=image/jpeg:https://www.enricodamianieditore.com/wp-content/uploads/2021/11/EDEA-BC2021.jpg
END:VEVENT
END:VCALENDAR