
BEGIN:VCALENDAR
VERSION:2.0
PRODID:-//Enrico Damiani Editore e Associati - ECPv6.15.16.1//NONSGML v1.0//EN
CALSCALE:GREGORIAN
METHOD:PUBLISH
X-ORIGINAL-URL:https://www.enricodamianieditore.com
X-WR-CALDESC:Eventi per Enrico Damiani Editore e Associati
REFRESH-INTERVAL;VALUE=DURATION:PT1H
X-Robots-Tag:noindex
X-PUBLISHED-TTL:PT1H
BEGIN:VTIMEZONE
TZID:Europe/Rome
BEGIN:DAYLIGHT
TZOFFSETFROM:+0100
TZOFFSETTO:+0200
TZNAME:CEST
DTSTART:20210328T010000
END:DAYLIGHT
BEGIN:STANDARD
TZOFFSETFROM:+0200
TZOFFSETTO:+0100
TZNAME:CET
DTSTART:20211031T010000
END:STANDARD
BEGIN:DAYLIGHT
TZOFFSETFROM:+0100
TZOFFSETTO:+0200
TZNAME:CEST
DTSTART:20220327T010000
END:DAYLIGHT
BEGIN:STANDARD
TZOFFSETFROM:+0200
TZOFFSETTO:+0100
TZNAME:CET
DTSTART:20221030T010000
END:STANDARD
BEGIN:DAYLIGHT
TZOFFSETFROM:+0100
TZOFFSETTO:+0200
TZNAME:CEST
DTSTART:20230326T010000
END:DAYLIGHT
BEGIN:STANDARD
TZOFFSETFROM:+0200
TZOFFSETTO:+0100
TZNAME:CET
DTSTART:20231029T010000
END:STANDARD
END:VTIMEZONE
BEGIN:VEVENT
DTSTART;TZID=Europe/Rome:20221119T160000
DTEND;TZID=Europe/Rome:20221119T170000
DTSTAMP:20260423T125559
CREATED:20221115T151814Z
LAST-MODIFIED:20221115T151814Z
UID:10000186-1668873600-1668877200@www.enricodamianieditore.com
SUMMARY:Lorenzo Lotto\, confessioni di un grande pittore - Bookcity Milano 2022
DESCRIPTION:Lorenzo Lotto\, confessioni di un grande pittore\ncon Stefano Zuffi\n\nAnche quest’anno siamo molto contenti di partecipare a Bookcity Milano 2022. Per l’occasione vogliamo regalare a tutti gli amanti dell’arte e della pittura\, un evento in presenza davvero imperdibile.\n\n\nQuindi segnatevi l’appuntamento con Stefano Zuffi\, storico dell’arte\, membro del comitato scientifico della Pinacoteca di Brera e curatore della Pinacoteca Civica di Ancona:\n\n\nSabato 19 novembre alle ore 16:00 presso la Sala Conferenze di Palazzo Reale\, Stefano Zuffi presenta il libro “Senza posa. Lorenzo Lotto\, tra Venezia\, Bergamo e le Marche”\, una profonda confessione senza veli in cui l’ormai anziano pittore ripercorre la sua esistenza tra passioni e delusioni\, capolavori e dubbi.\n\n\nNon perdete l’occasione per ascoltare dal vivo uno dei massimi esperti italiani del mondo dell’arte. L’ingresso è libero fino ad esaurimento posti.\n\n\nL’autore\nStefano Zuffi\, storico dell’arte\, è membro del comitato scientifico della Pinacoteca di Brera e curatore della Pinacoteca Civica di Ancona. È stato responsabile di collane di successo dedicate alle arti figurative come gli Artbook e I dizionari dell’arte e ha scritto oltre cento volumi di divulgazione culturale\, legati soprattutto al periodo rinascimentale e barocco. Con Enrico Damiani Editore ha pubblicato Eterni ragazzi. Raffaello e Mozart\, due vite allo specchio (2020) e Paradiso per due. Giotto e Dante\, dalle pecore alle stelle (2021).
URL:https://www.enricodamianieditore.com/evento/lorenzo-lotto-confessioni-di-un-grande-pittore-bookcity-milano-2022/
LOCATION:Sala Conferenze Palazzo Reale\, Piazza Duomo 14\, Milano
ATTACH;FMTTYPE=image/jpeg:https://www.enricodamianieditore.com/wp-content/uploads/2022/11/BCM22_EDEA_ZUFFI_19nov_ore16-scaled.jpg
END:VEVENT
END:VCALENDAR