
BEGIN:VCALENDAR
VERSION:2.0
PRODID:-//Enrico Damiani Editore e Associati - ECPv6.15.16.1//NONSGML v1.0//EN
CALSCALE:GREGORIAN
METHOD:PUBLISH
X-WR-CALNAME:Enrico Damiani Editore e Associati
X-ORIGINAL-URL:https://www.enricodamianieditore.com
X-WR-CALDESC:Eventi per Enrico Damiani Editore e Associati
REFRESH-INTERVAL;VALUE=DURATION:PT1H
X-Robots-Tag:noindex
X-PUBLISHED-TTL:PT1H
BEGIN:VTIMEZONE
TZID:Europe/Rome
BEGIN:DAYLIGHT
TZOFFSETFROM:+0100
TZOFFSETTO:+0200
TZNAME:CEST
DTSTART:20250330T010000
END:DAYLIGHT
BEGIN:STANDARD
TZOFFSETFROM:+0200
TZOFFSETTO:+0100
TZNAME:CET
DTSTART:20251026T010000
END:STANDARD
BEGIN:DAYLIGHT
TZOFFSETFROM:+0100
TZOFFSETTO:+0200
TZNAME:CEST
DTSTART:20260329T010000
END:DAYLIGHT
BEGIN:STANDARD
TZOFFSETFROM:+0200
TZOFFSETTO:+0100
TZNAME:CET
DTSTART:20261025T010000
END:STANDARD
BEGIN:DAYLIGHT
TZOFFSETFROM:+0100
TZOFFSETTO:+0200
TZNAME:CEST
DTSTART:20270328T010000
END:DAYLIGHT
BEGIN:STANDARD
TZOFFSETFROM:+0200
TZOFFSETTO:+0100
TZNAME:CET
DTSTART:20271031T010000
END:STANDARD
END:VTIMEZONE
BEGIN:VEVENT
DTSTART;TZID=Europe/Rome:20260507T183000
DTEND;TZID=Europe/Rome:20260507T200000
DTSTAMP:20260423T025734
CREATED:20260422T143902Z
LAST-MODIFIED:20260422T143902Z
UID:10000339-1778178600-1778184000@www.enricodamianieditore.com
SUMMARY:Presentazione di "Gli altri colori dell'arcobaleno" alla Libreria Centofiori
DESCRIPTION:Presentazione di Gli altri colori dell’arcobaleno alla Libreria Centofiori \nGiovedì 7 maggio alle ore 18.30\, presso la Libreria Centofiori in Piazzale Dateo 5 a Milano\, Federico Lupo Trevisan presenta Gli altri colori dell’arcobaleno. Fatiche e gioie dell’omogenitorialità\, in dialogo con Sara Uslenghi. \nIl libro\nPer alcuni il desiderio di avere dei figli non è soltanto un pensiero razionale\, un’idea o un progetto di vita\, ma un impulso che abita nella carne. Per i genitori omosessuali\, in particolare\, questa spinta si traduce in una scelta dalle tante implicazioni – sociali\, mediche\, psicologiche –\, un percorso tortuoso\, che nasce da domande profonde: «Perché vogliamo diventare genitori? È davvero un nostro diritto avere figli a tutti i costi? Fino a che punto possiamo spingerci?». Federico Lupo Trevisan\, psicologo e psicoterapeuta\, racconta la realtà delle famiglie arcobaleno che ha conosciuto e seguito in anni di lavoro\, dipingendole in tutte le loro sfumature: da quelle vivaci della gioia e della scoperta a quelle più cupe della sofferenza davanti a ostacoli in apparenza insormontabili. In queste pagine dà la parola a genitori e bambini\, ma anche a chi partecipa al loro mondo concreto e simbolico: nonni e nonne\, insegnanti\, medici\, pubblici ufficiali e persone di fede. Voci che\, intrecciate\, contribuiscono con le loro prospettive ad aprire uno spazio di riflessione su noi stessi\, la nostra società e la strada che ancora dobbiamo percorrere.
URL:https://www.enricodamianieditore.com/evento/presentazione-di-gli-altri-colori-dellarcobaleno-alla-libreria-centofiori/
LOCATION:Libreria Centofiori\, Piazzale Dateo 5\, Milano
CATEGORIES:Presentazione
ATTACH;FMTTYPE=image/jpeg:https://www.enricodamianieditore.com/wp-content/uploads/2026/04/2026_05_07_Milano_Centofiori.jpeg
END:VEVENT
END:VCALENDAR