
BEGIN:VCALENDAR
VERSION:2.0
PRODID:-//Enrico Damiani Editore e Associati - ECPv6.15.16.1//NONSGML v1.0//EN
CALSCALE:GREGORIAN
METHOD:PUBLISH
X-ORIGINAL-URL:https://www.enricodamianieditore.com
X-WR-CALDESC:Eventi per Enrico Damiani Editore e Associati
REFRESH-INTERVAL;VALUE=DURATION:PT1H
X-Robots-Tag:noindex
X-PUBLISHED-TTL:PT1H
BEGIN:VTIMEZONE
TZID:Europe/Rome
BEGIN:DAYLIGHT
TZOFFSETFROM:+0100
TZOFFSETTO:+0200
TZNAME:CEST
DTSTART:20230326T010000
END:DAYLIGHT
BEGIN:STANDARD
TZOFFSETFROM:+0200
TZOFFSETTO:+0100
TZNAME:CET
DTSTART:20231029T010000
END:STANDARD
BEGIN:DAYLIGHT
TZOFFSETFROM:+0100
TZOFFSETTO:+0200
TZNAME:CEST
DTSTART:20240331T010000
END:DAYLIGHT
BEGIN:STANDARD
TZOFFSETFROM:+0200
TZOFFSETTO:+0100
TZNAME:CET
DTSTART:20241027T010000
END:STANDARD
BEGIN:DAYLIGHT
TZOFFSETFROM:+0100
TZOFFSETTO:+0200
TZNAME:CEST
DTSTART:20250330T010000
END:DAYLIGHT
BEGIN:STANDARD
TZOFFSETFROM:+0200
TZOFFSETTO:+0100
TZNAME:CET
DTSTART:20251026T010000
END:STANDARD
END:VTIMEZONE
BEGIN:VEVENT
DTSTART;TZID=Europe/Rome:20240614T180000
DTEND;TZID=Europe/Rome:20240614T190000
DTSTAMP:20260420T191700
CREATED:20240606T073252Z
LAST-MODIFIED:20240606T073252Z
UID:10000227-1718388000-1718391600@www.enricodamianieditore.com
SUMMARY:Aperitivo letterario con "Il bello che piace" a Lerici (SP)
DESCRIPTION:Aperitivo letterario con Il bello che piace a Lerici (SP) \n“Non è bello ciò che è bello\, ma è bello ciò che piace” è un proverbio che conosciamo tutti e che spesso usiamo per giustificare i nostri gusti individuali. Ma “ciò che piace” non è così soggettivo\, anzi\, spesso corrisponde a uno o più modelli di conformità estetica definiti dalle società in cui viviamo.\nDall’abbigliamento alle acconciature\, dalla depilazione al trucco\, dall’igiene personale ai tatuaggi\, ogni giorno costruiamo culturalmente il nostro corpo seguendo – o sfidando – un complesso sistema di valori talmente interiorizzato da sembrare naturale. L’antropologia del corpo si occupa di queste pratiche\, dei loro significati e dei processi che ne determinano la nascita\, la diffusione e persino l’estinzione.\nAttraverso dieci oggetti d’uso quotidiano (specchio\, spazzola\, rasoio\, lavatrice\, profumo\, rossetto\, bilancia\, tacchi\, tatuaggio\, carta igienica)\, Cristina Cassese analizza le tante declinazioni della bellezza in epoche e culture diverse\, in un saggio rigoroso e appassionante che permette di scoprire cosa si nasconde dietro gesti e abitudini che diamo per scontati.\nVenerdì 14 giugno 2024 alle 18\, nella splendida cornice del Vespucci’s Cafè di Lerici\, l’antropologa Cristina Cassese presenterà il suo libro Il bello che piace. Antropologia del corpo in 10 oggetti.\nModera l’evento Agnese Maranca.Evento promosso dal Collettivo “Non è un paese per giovani” in collaborazione con Enrico Damiani Editore.
URL:https://www.enricodamianieditore.com/evento/aperitivo-letterario-con-il-bello-che-piace-a-lerici-sp/
LOCATION:Vespucci’s Cafè\, Piazza San Giorgio 4\, Lerici\, SP
CATEGORIES:Presentazione
ATTACH;FMTTYPE=image/jpeg:https://www.enricodamianieditore.com/wp-content/uploads/2024/06/EDEA_CASSESEbello_14giu24_Lerici_post_FB_2b.jpg
END:VEVENT
END:VCALENDAR