
BEGIN:VCALENDAR
VERSION:2.0
PRODID:-//Enrico Damiani Editore e Associati - ECPv6.15.16.1//NONSGML v1.0//EN
CALSCALE:GREGORIAN
METHOD:PUBLISH
X-ORIGINAL-URL:https://www.enricodamianieditore.com
X-WR-CALDESC:Eventi per Enrico Damiani Editore e Associati
REFRESH-INTERVAL;VALUE=DURATION:PT1H
X-Robots-Tag:noindex
X-PUBLISHED-TTL:PT1H
BEGIN:VTIMEZONE
TZID:Europe/Rome
BEGIN:DAYLIGHT
TZOFFSETFROM:+0100
TZOFFSETTO:+0200
TZNAME:CEST
DTSTART:20240331T010000
END:DAYLIGHT
BEGIN:STANDARD
TZOFFSETFROM:+0200
TZOFFSETTO:+0100
TZNAME:CET
DTSTART:20241027T010000
END:STANDARD
BEGIN:DAYLIGHT
TZOFFSETFROM:+0100
TZOFFSETTO:+0200
TZNAME:CEST
DTSTART:20250330T010000
END:DAYLIGHT
BEGIN:STANDARD
TZOFFSETFROM:+0200
TZOFFSETTO:+0100
TZNAME:CET
DTSTART:20251026T010000
END:STANDARD
BEGIN:DAYLIGHT
TZOFFSETFROM:+0100
TZOFFSETTO:+0200
TZNAME:CEST
DTSTART:20260329T010000
END:DAYLIGHT
BEGIN:STANDARD
TZOFFSETFROM:+0200
TZOFFSETTO:+0100
TZNAME:CET
DTSTART:20261025T010000
END:STANDARD
END:VTIMEZONE
BEGIN:VEVENT
DTSTART;TZID=Europe/Rome:20250726T170000
DTEND;TZID=Europe/Rome:20250726T180000
DTSTAMP:20260424T142506
CREATED:20250718T153624Z
LAST-MODIFIED:20250718T153624Z
UID:10000293-1753549200-1753552800@www.enricodamianieditore.com
SUMMARY:"Bologna adagio" al Porretta Soul Festival
DESCRIPTION:Bologna adagio al Porretta Soul Festival \nSabato 26 luglio alle 17\, Nicoletta Rossi presenta il suo Bologna adagio. All’ombra dei portici al Porretta Soul Festival. L’incontro si svolgerà all’Hotel Helvetia (Piazza Vittorio Veneto 11\, Porretta Terme). Presenta Fabio Marchioni\, interviene Graziano Uliani. \nIl libro\n«I luoghi comuni su Bologna li conoscono tutti: Bologna la dotta\, Bologna la grassa\, Bologna la rossa. \nLa dotta per la sua Università\, che è probabilmente la più antica del mondo benché se la giochi con la marocchina Fez. La grassa per la sua succulenta cucina intrisa di burro. La rossa per il colore dominante dei suoi palazzi (li vogliamo ringraziare quei funzionari che nel corso dei secoli hanno limitato l’uso di altre tonalità?) ma anche per il suo passato di più grande città comunista fuori dall’Urss. \nE poi i portici\, questo infinito abbraccio che non ti lascia mai\, che d’estate ti dà ombra e d’inverno ti ripara dalla pioggia\, che ti regala angoli di buio e incontri inaspettati. \nEcco\, questa è la Bologna che ho voluto descrivere e che spero di aiutarvi a scoprire. Una città che non è abbastanza grande da diventare una metropoli né abbastanza piccola da restringersi a paesone. Che è abbastanza cosmopolita da inventarsi cose che poi fanno proseliti in tutta Italia\, ma anche legata alle sue tradizioni\, ai piccoli riti che ciascuno di noi si porta dentro. Una città dove c’è davvero tutto: la memoria del passato\, le speranze per il futuro e la capacità di godersi il presente». \nBologna adagio fa parte della collana gli adagi\, nata dall’idea dall’idea dell’Adagio Urbano che ha ispirato le passeggiate di Teresa Monestiroli a Milano.
URL:https://www.enricodamianieditore.com/evento/bologna-adagio-al-porretta-soul-festival/
LOCATION:Hotel Helvetia\, Piazza Vittorio Veneto 11\, Porretta Terme\, PO
CATEGORIES:Presentazione
ATTACH;FMTTYPE=image/jpeg:https://www.enricodamianieditore.com/wp-content/uploads/2025/07/EDEA_BOadagio_26lug25_PORRETTA_postFB_bz1.jpg
END:VEVENT
END:VCALENDAR