
BEGIN:VCALENDAR
VERSION:2.0
PRODID:-//Enrico Damiani Editore e Associati - ECPv6.15.16.1//NONSGML v1.0//EN
CALSCALE:GREGORIAN
METHOD:PUBLISH
X-ORIGINAL-URL:https://www.enricodamianieditore.com
X-WR-CALDESC:Eventi per Enrico Damiani Editore e Associati
REFRESH-INTERVAL;VALUE=DURATION:PT1H
X-Robots-Tag:noindex
X-PUBLISHED-TTL:PT1H
BEGIN:VTIMEZONE
TZID:Europe/Rome
BEGIN:DAYLIGHT
TZOFFSETFROM:+0100
TZOFFSETTO:+0200
TZNAME:CEST
DTSTART:20210328T010000
END:DAYLIGHT
BEGIN:STANDARD
TZOFFSETFROM:+0200
TZOFFSETTO:+0100
TZNAME:CET
DTSTART:20211031T010000
END:STANDARD
BEGIN:DAYLIGHT
TZOFFSETFROM:+0100
TZOFFSETTO:+0200
TZNAME:CEST
DTSTART:20220327T010000
END:DAYLIGHT
BEGIN:STANDARD
TZOFFSETFROM:+0200
TZOFFSETTO:+0100
TZNAME:CET
DTSTART:20221030T010000
END:STANDARD
BEGIN:DAYLIGHT
TZOFFSETFROM:+0100
TZOFFSETTO:+0200
TZNAME:CEST
DTSTART:20230326T010000
END:DAYLIGHT
BEGIN:STANDARD
TZOFFSETFROM:+0200
TZOFFSETTO:+0100
TZNAME:CET
DTSTART:20231029T010000
END:STANDARD
BEGIN:DAYLIGHT
TZOFFSETFROM:+0100
TZOFFSETTO:+0200
TZNAME:CEST
DTSTART:20240331T010000
END:DAYLIGHT
BEGIN:STANDARD
TZOFFSETFROM:+0200
TZOFFSETTO:+0100
TZNAME:CET
DTSTART:20241027T010000
END:STANDARD
BEGIN:DAYLIGHT
TZOFFSETFROM:+0100
TZOFFSETTO:+0200
TZNAME:CEST
DTSTART:20250330T010000
END:DAYLIGHT
BEGIN:STANDARD
TZOFFSETFROM:+0200
TZOFFSETTO:+0100
TZNAME:CET
DTSTART:20251026T010000
END:STANDARD
END:VTIMEZONE
BEGIN:VEVENT
DTSTART;TZID=Europe/Rome:20240605T203000
DTEND;TZID=Europe/Rome:20240605T223000
DTSTAMP:20260422T233054
CREATED:20240531T124648Z
LAST-MODIFIED:20240531T124648Z
UID:10000226-1717619400-1717626600@www.enricodamianieditore.com
SUMMARY:"Noi imperfetti" alla Casa della Psicologia di Milano
DESCRIPTION:Noi imperfetti alla Casa della Psicologia di Milano\nMercoledì 5 giugno 2024 dalle 20.30\, all’interno del progetto “Generazioni a confronto”\, Pietro Roberto Goisis presenta Noi Imperfetti. Quando pensiamo di non farcela alla Casa della Psicologia di Milano\, con la collaborazione della Consulta dei Rappresentanti delle Scuole di Specializzazione in Psicoterapia dell’Ordine degli Psicologi della Lombardia. L’incontro si svolgerà in presenza (Piazza Castello\, 2) e online su piattaforma GoToWebinar.\n\n\nIntroducono e moderano Valentino Ferro\, Tesoriere OPL e Silvia Valadè\, Consigliera OPL. L’autore dialogherà con Beatrice Ginelli Psicologa\, Consulta dei rappresentanti delle scuole di psicoterapia lombarde di OPL\, e Virginia Roghi\, Consulta dei rappresentanti delle scuole di psicoterapia lombarde di OPL.\n\n\nL’evento è aperto a tutti\, ma i posti sono limitati. L’iscrizione è obbligatoria\, qui tutte le informazioni.\nIl libro\nDa psicoanalista Pietro Roberto Goisis convive con le imperfezioni e le crepe nel fisiologico funzionamento della mente. Ancora prima di accettarle nei suoi pazienti e in sé stesso\, cerca di dare loro un senso.\nTutto inizia nel momento esatto in cui veniamo al mondo. È come un big bang nel quale ci rendiamo conto che da soli non ce la faremo\, che siamo in uno stato di bisogno assoluto. Scopriamo la dipendenza da nostra madre\, poi da chiunque si prenda cura di noi. Come rispondiamo a questa esperienza originaria di attaccamento influenza relazioni e comportamenti. Qui spesso inizia la sfida tra la perfezione (ambita e impossibile) e tutte le nostre umane fragilità.\nPossiamo imparare a voler bene alle nostre crepe\, a non nasconderle. E così innescare un circolo virtuoso\, apprezzare e valorizzare quelle altrui\, tornare a guardare le nostre con compassione amorevole. Senza vergognarci. In queste pagine attraverseremo una costellazione di concetti confinanti per fare tesoro delle nostre vulnerabilità\, liberare energie e metterle al servizio del cambiamento.
URL:https://www.enricodamianieditore.com/evento/noi-imperfetti-casa-della-psicologia-milano/
LOCATION:Casa della Psicologia\, Piazza Castello 2\, Milano
CATEGORIES:Online,Presentazione
ATTACH;FMTTYPE=image/jpeg:https://www.enricodamianieditore.com/wp-content/uploads/2024/05/446849442_10224488661914571_7367700261125518056_n.jpg
END:VEVENT
BEGIN:VEVENT
DTSTART;TZID=Europe/Rome:20221220T203000
DTEND;TZID=Europe/Rome:20221220T213000
DTSTAMP:20260422T233054
CREATED:20221125T125234Z
LAST-MODIFIED:20221125T125234Z
UID:10000072-1671568200-1671571800@www.enricodamianieditore.com
SUMMARY:"Freud e il mondo che cambia" alla Casa della Psicologia
DESCRIPTION:Freud e il mondo che cambia alla Casa della Psicologia \nI rappresentanti degli studenti di psicoterapia delle scuole lombarde parleranno di teoria e tecnica psicoterapeutica con Stefano Bolognini e Luca Nicoli\, prendendo spunto dal loro ultimo libro: Freud e il mondo che cambia. \nLa psicoanalisi ha compiuto centoventi anni. Per certi versi è molto cambiata\, per altri conserva stretti legami con le sue origini. Qual è la sua eredità più preziosa?  \nNe parlano Stefano Bolognini\, psicoanalista italiano tra i più noti e tradotti al mondo\, e Luca Nicoli\, anche lui analista e divulgatore. Filo conduttore del loro dialogo è il rapporto tra la psicoanalisi contemporanea\, più attenta di un tempo alla relazione emotiva che si instaura nella coppia analitica\, e i disagi di oggi\, incentrati sulle fragilità narcisistiche e sulla diffidenza nel rapporto con l’altro. \nI due analisti riflettono sulla genesi della sofferenza mentale\, e sui modi in cui la psicoterapia analitica si offre come chiave di lettura e insieme come cura. E allargano lo sguardo a temi di triste attualità come la guerra\, i totalitarismi e la sostenibilità ecologica della civiltà umana.  \nRestituendo a una delle grandi rivoluzioni del XX secolo un ruolo centrale nell’indagine intorno all’uomo e al suo sofferto ed entusiasmante stare al mondo. \nDurante la serata si potranno approfondire molteplici interrogativi sulla clinica psicoanalitica odierna come: l’eredità della psicoanalisi freudiana\, l’inconscio\, il lavoro sui sogni\, la clinica dei disagi delle nuove generazioni e il lavoro terapeutico online. \nINTRODUCONO:\nLaura Parolin\, Presidente OPL\nValentino Ferro\, Tesoriere OPL\nSilvia Valadé\, Consigliera OPL\nIrene Sarno\, psicologa\, psicoanalista \nRELATORI:\nStefano Bolognini\, medico\, psicoanalista\nLuca Nicoli\, psicologo\, psicoanalista\nConsulta degli Studenti delle Scuole di Psicoterapia \nEvento aperto a tutta la cittadinanza.\nL’iscrizione è obbligatoria.\n\nPer partecipare in presenza compilare il modulo sul sito dell’OPL entro le ore 12:00 del 20/12/2022. \nPer partecipare da remoto inviare una e-mail indicando “20/12/2022 – Generazioni a Confronto” a: eventi.tutoring@opl.it
URL:https://www.enricodamianieditore.com/evento/freud-e-il-mondo-che-cambia-alla-casa-della-psicologia/
LOCATION:Casa della Psicologia\, Piazza Castello 2\, Milano
CATEGORIES:Presentazione
ATTACH;FMTTYPE=image/jpeg:https://www.enricodamianieditore.com/wp-content/uploads/2022/11/WhatsApp-Image-2022-11-24-at-11.00.43.jpeg
END:VEVENT
END:VCALENDAR