
BEGIN:VCALENDAR
VERSION:2.0
PRODID:-//Enrico Damiani Editore e Associati - ECPv6.15.16.1//NONSGML v1.0//EN
CALSCALE:GREGORIAN
METHOD:PUBLISH
X-WR-CALNAME:Enrico Damiani Editore e Associati
X-ORIGINAL-URL:https://www.enricodamianieditore.com
X-WR-CALDESC:Eventi per Enrico Damiani Editore e Associati
REFRESH-INTERVAL;VALUE=DURATION:PT1H
X-Robots-Tag:noindex
X-PUBLISHED-TTL:PT1H
BEGIN:VTIMEZONE
TZID:Europe/Rome
BEGIN:DAYLIGHT
TZOFFSETFROM:+0100
TZOFFSETTO:+0200
TZNAME:CEST
DTSTART:20230326T010000
END:DAYLIGHT
BEGIN:STANDARD
TZOFFSETFROM:+0200
TZOFFSETTO:+0100
TZNAME:CET
DTSTART:20231029T010000
END:STANDARD
BEGIN:DAYLIGHT
TZOFFSETFROM:+0100
TZOFFSETTO:+0200
TZNAME:CEST
DTSTART:20240331T010000
END:DAYLIGHT
BEGIN:STANDARD
TZOFFSETFROM:+0200
TZOFFSETTO:+0100
TZNAME:CET
DTSTART:20241027T010000
END:STANDARD
BEGIN:DAYLIGHT
TZOFFSETFROM:+0100
TZOFFSETTO:+0200
TZNAME:CEST
DTSTART:20250330T010000
END:DAYLIGHT
BEGIN:STANDARD
TZOFFSETFROM:+0200
TZOFFSETTO:+0100
TZNAME:CET
DTSTART:20251026T010000
END:STANDARD
END:VTIMEZONE
BEGIN:VEVENT
DTSTART;TZID=Europe/Rome:20241004T183000
DTEND;TZID=Europe/Rome:20241004T193000
DTSTAMP:20260420T203645
CREATED:20241003T070613Z
LAST-MODIFIED:20241003T070613Z
UID:10000241-1728066600-1728070200@www.enricodamianieditore.com
SUMMARY:"Il bello che piace" ad Aosta Pride 2024
DESCRIPTION:Il bello che piace ad Aosta Pride 2024 \nVenerdì 4 ottobre alle 18.30\, Cristina Cassese presenta il suo libro Il bello che piace. Antropologia del corpo in 10 oggetti  in dialogo con Alessia Galletta per Aosta Pride 2024\, alla Bocciofila del Quartiere Cogne (via Giorgio Elter 29). \nIl libro\n«Non è bello ciò che è bello\, ma è bello ciò che piace» è un proverbio che conosciamo tutti e che spesso usiamo per giustificare i nostri gusti individuali. Ma «ciò che piace» non è così soggettivo\, anzi\, spesso corrisponde a uno o più modelli di conformità estetica definiti dalle società in cui viviamo. \nDall’abbigliamento alle acconciature\, dalla depilazione al trucco\, dall’igiene personale ai tatuaggi\, ogni giorno costruiamo culturalmente il nostro corpo seguendo – o sfidando – un complesso sistema di valori talmente interiorizzato da sembrare naturale. L’antropologia del corpo si occupa di queste pratiche\, dei loro significati e dei processi che ne determinano la nascita\, la diffusione e persino l’estinzione. \nAttraverso dieci oggetti di uso quotidiano (specchio\, spazzola\, rasoio\, lavatrice\, profumo\, rossetto\, bilancia\, tacchi\, tatuaggio\, carta igienica)\, Cristina Cassese analizza le tante  declinazioni della bellezza in epoche e culture diverse\, in un saggio rigoroso e appassionante che permette di scoprire cosa si nasconde dietro gesti e abitudini che diamo per scontati.
URL:https://www.enricodamianieditore.com/evento/il-bello-che-piace-ad-aosta-pride-2024/
LOCATION:Bocciofila del Quartiere Cogne\, via Giorgio Elter 29\, Aosta
CATEGORIES:Presentazione
ATTACH;FMTTYPE=image/jpeg:https://www.enricodamianieditore.com/wp-content/uploads/2024/10/WhatsApp-Image-2024-09-09-at-08.42.57.jpeg
END:VEVENT
END:VCALENDAR