
BEGIN:VCALENDAR
VERSION:2.0
PRODID:-//Enrico Damiani Editore e Associati - ECPv6.15.16.1//NONSGML v1.0//EN
CALSCALE:GREGORIAN
METHOD:PUBLISH
X-WR-CALNAME:Enrico Damiani Editore e Associati
X-ORIGINAL-URL:https://www.enricodamianieditore.com
X-WR-CALDESC:Eventi per Enrico Damiani Editore e Associati
REFRESH-INTERVAL;VALUE=DURATION:PT1H
X-Robots-Tag:noindex
X-PUBLISHED-TTL:PT1H
BEGIN:VTIMEZONE
TZID:Europe/Rome
BEGIN:DAYLIGHT
TZOFFSETFROM:+0100
TZOFFSETTO:+0200
TZNAME:CEST
DTSTART:20220327T010000
END:DAYLIGHT
BEGIN:STANDARD
TZOFFSETFROM:+0200
TZOFFSETTO:+0100
TZNAME:CET
DTSTART:20221030T010000
END:STANDARD
BEGIN:DAYLIGHT
TZOFFSETFROM:+0100
TZOFFSETTO:+0200
TZNAME:CEST
DTSTART:20230326T010000
END:DAYLIGHT
BEGIN:STANDARD
TZOFFSETFROM:+0200
TZOFFSETTO:+0100
TZNAME:CET
DTSTART:20231029T010000
END:STANDARD
BEGIN:DAYLIGHT
TZOFFSETFROM:+0100
TZOFFSETTO:+0200
TZNAME:CEST
DTSTART:20240331T010000
END:DAYLIGHT
BEGIN:STANDARD
TZOFFSETFROM:+0200
TZOFFSETTO:+0100
TZNAME:CET
DTSTART:20241027T010000
END:STANDARD
END:VTIMEZONE
BEGIN:VEVENT
DTSTART;TZID=Europe/Rome:20230826T210000
DTEND;TZID=Europe/Rome:20230826T220000
DTSTAMP:20260420T033706
CREATED:20230822T105131Z
LAST-MODIFIED:20230822T105131Z
UID:10000090-1693083600-1693087200@www.enricodamianieditore.com
SUMMARY:Presentazione "Scuolitudine" per 10 Libri per 10 Terrazze (Minervino\, Lecce)
DESCRIPTION:Presentazione “Scuolitudine” per 10 Libri per 10 Terrazze \nSabato 26 agosto alle ore 21\, Chiara Foà e Matteo Saudino – Barbasophia presentano Scuolitudine. Storie di passioni resistenti nell’ambito della rassegna 10 Libri per 10 Terrazze\, una rassegna di incontri diffusi con scrittrici e scrittori\, giornaliste e giornaliste sulle terrazze delle più belle dimore storiche di Cocumola\, Minervino e Specchia Gallone. Dialogherà con gli autori Elisa Forte\, giornalista di “La Stampa”\, founder e organizzatrice degli Stati Generali della Scuola. L’incontro si terrà sulla Terrazza dell’Ostello della Via Francigena a Specchia Gallone (Piazza del Popolo 29/30\, Minervino di Lecce – Borgo Specchia Gallone). \nIl libro\nChiara e Matteo sono due insegnanti\, una alle medie\, l’altro al liceo. Di scuola vivono\, e quindi di scuola parlano\, specialmente quando\, lontani dalle aule e dagli studenti\, cominciano un appassionato scambio di lettere per vincere la solitudine. \nSi sentono soli\, tra i colleghi disillusi e davanti alle famiglie in difficoltà. Soli nel confrontarsi con gli allievi più vulnerabili. Soli perché invisibili agli occhi di una società nichilista\, che trasforma tutto in guadagno e\, quando non ci riesce\, cancella e distrugge. \nEppure continuano a combattere e a sperimentare\, a condividere i valori che li vedono schierati\, ogni giorno\, dalla parte dei ragazzi\, per coltivare la loro coscienza.
URL:https://www.enricodamianieditore.com/evento/presentazione-scuolitudine-per-10-libri-per-10-terrazze-minervino-lecce/
LOCATION:Ostello dell via Francigena\, Piazza del Popolo 29/30\, Minervino di Lecce\, LE\, 73027
CATEGORIES:Presentazione
ATTACH;FMTTYPE=image/jpeg:https://www.enricodamianieditore.com/wp-content/uploads/2023/08/WhatsApp-Image-2023-08-20-at-14.35.30.jpeg
END:VEVENT
END:VCALENDAR